BEGIN:VCALENDAR
VERSION:2.0
PRODID:-//CPSV//NONSGML kigkonsult.se iCalcreator 2.30.10//
CALSCALE:GREGORIAN
METHOD:PUBLISH
UID:22c57d8d-c4eb-4ea8-9423-e21644c0f999
X-WR-CALNAME:iCagenda
X-WR-CALDESC:Event Management Extension for Joomla!
X-WR-RELCALID:3E26604A-50F4-4449-8B3E-E4F4932D05B5
X-WR-TIMEZONE:UTC
BEGIN:VTIMEZONE
TZID:UTC
END:VTIMEZONE
BEGIN:VEVENT
UID:c5bee077-a88f-45e2-b92f-20035a475ec6
DTSTAMP:20260421T151317Z
CATEGORIES:Judo
CLASS:PUBLIC
DESCRIPTION:
DTSTART:20230311T080000Z
DTEND:20230311T080000Z
GEO:+51.315392;+13.269617
LOCATION:Sporthalle des BSZ T/W Riesa\, Paul-Greifzu-Straße 51
ORGANIZER:
SEQUENCE:1
SUMMARY:Judo - 21. Riesaer Stahl-Pokal
TRANSP:OPAQUE
URL:https://www.cpsv.de/component/icagenda/10-21-riesaer-stahl-pokal/2023-0
 3-11-08-00.html?Itemid=101
END:VEVENT
END:VCALENDAR
