BEGIN:VCALENDAR
VERSION:2.0
PRODID:-//CPSV//NONSGML kigkonsult.se iCalcreator 2.30.10//
CALSCALE:GREGORIAN
METHOD:PUBLISH
UID:1cc34183-5e56-4ad2-9096-7c21d2961377
X-WR-CALNAME:iCagenda
X-WR-CALDESC:Event Management Extension for Joomla!
X-WR-RELCALID:3E26604A-50F4-4449-8B3E-E4F4932D05B5
X-WR-TIMEZONE:UTC
BEGIN:VTIMEZONE
TZID:UTC
END:VTIMEZONE
BEGIN:VEVENT
UID:4ff4d7a8-5a59-436e-b6b9-906622d21251
DTSTAMP:20260421T151945Z
CATEGORIES:Judo
CLASS:PUBLIC
DESCRIPTION;ALTREP="CID:<FFFF__=0ABBE548DFE235B58f9e8a93d@coffeebean.com>":
 21. Krümelrandori Jahrgänge 2013- 2017
DTSTART:20230311T153400Z
DTEND:20230311T153400Z
GEO:+50.475029;+12.759413
LOCATION:Breitenbrunn/Erz.
ORGANIZER:
SEQUENCE:1
SUMMARY:21. Krümelrandori 2023 Breitenbrunn
TRANSP:OPAQUE
URL:https://www.cpsv.de/component/icagenda/11-21-kruemelrandori-2023-breite
 mbrunn/2023-03-11-15-34.html?Itemid=101
END:VEVENT
END:VCALENDAR
