BEGIN:VCALENDAR
VERSION:2.0
PRODID:-//CPSV//NONSGML kigkonsult.se iCalcreator 2.30.10//
CALSCALE:GREGORIAN
METHOD:PUBLISH
UID:94dc785b-9c00-46d8-ac96-71a1086fd27e
X-WR-CALNAME:iCagenda
X-WR-CALDESC:Event Management Extension for Joomla!
X-WR-RELCALID:3E26604A-50F4-4449-8B3E-E4F4932D05B5
X-WR-TIMEZONE:UTC
BEGIN:VTIMEZONE
TZID:UTC
END:VTIMEZONE
BEGIN:VEVENT
UID:eeb754ef-e80b-4f34-96f1-795b7ccc175d
DTSTAMP:20260421T160906Z
CATEGORIES:Judo
CLASS:PUBLIC
DESCRIPTION;ALTREP="CID:<FFFF__=0ABBE548DFE235B58f9e8a93d@coffeebean.com>":
 Teilnahme entsprechend Qualifikation
DTSTART:20230225T150400Z
DTEND:20230225T150400Z
GEO:00;0
LOCATION:Leipzig
ORGANIZER:
SEQUENCE:1
SUMMARY:Deutsche Einzelmeisterschaft u18 männlich
TRANSP:OPAQUE
URL:https://www.cpsv.de/component/icagenda/12-deutsche-einzelmeisterschaft-
 u18-maennlich/2023-02-25-15-04.html?Itemid=101
END:VEVENT
END:VCALENDAR
