BEGIN:VCALENDAR
VERSION:2.0
PRODID:-//CPSV//NONSGML kigkonsult.se iCalcreator 2.30.10//
CALSCALE:GREGORIAN
METHOD:PUBLISH
UID:02df31ca-97e5-4318-b60a-d0d15ddb9efa
X-WR-CALNAME:iCagenda
X-WR-CALDESC:Event Management Extension for Joomla!
X-WR-RELCALID:3E26604A-50F4-4449-8B3E-E4F4932D05B5
X-WR-TIMEZONE:UTC
BEGIN:VTIMEZONE
TZID:UTC
END:VTIMEZONE
BEGIN:VEVENT
UID:930cfc2c-f283-43eb-8f17-026c1ce42805
DTSTAMP:20260421T160917Z
CATEGORIES:Judo
CLASS:PUBLIC
DESCRIPTION;ALTREP="CID:<FFFF__=0ABBE548DFE235B58f9e8a93d@coffeebean.com>":
 Teilnahme entsprechend Qualifikation
DTSTART:20230226T151200Z
DTEND:20230226T151200Z
GEO:+51.334171;+12.376712
LOCATION:Sporthalle Brüderstraße\, Leipzig
ORGANIZER:
SEQUENCE:1
SUMMARY:Deutsche Einzelmeisterschaft u18 weiblich
TRANSP:OPAQUE
URL:https://www.cpsv.de/component/icagenda/13-deutsche-einzelmeisterschaft-
 u18-weiblich/2023-02-26-15-12.html?Itemid=101
END:VEVENT
END:VCALENDAR
