BEGIN:VCALENDAR
VERSION:2.0
PRODID:-//CPSV//NONSGML kigkonsult.se iCalcreator 2.30.10//
CALSCALE:GREGORIAN
METHOD:PUBLISH
UID:970907e5-946a-457e-aaca-76c669065659
X-WR-CALNAME:iCagenda
X-WR-CALDESC:Event Management Extension for Joomla!
X-WR-RELCALID:3E26604A-50F4-4449-8B3E-E4F4932D05B5
X-WR-TIMEZONE:UTC
BEGIN:VTIMEZONE
TZID:UTC
END:VTIMEZONE
BEGIN:VEVENT
UID:86c3daa0-e2d2-4b10-84cc-0d6156853e40
DTSTAMP:20260421T152652Z
CATEGORIES:Judo
CLASS:PUBLIC
DESCRIPTION;ALTREP="CID:<FFFF__=0ABBE548DFE235B58f9e8a93d@coffeebean.com>":
 Offene Einzelmeisterschaft für Frauen und Männer Ü30 Open und Ne-Waza
DTSTART:20230311T152600Z
DTEND:20230311T152600Z
GEO:00;0
LOCATION:
ORGANIZER:
SEQUENCE:1
SUMMARY:18. Internationale Sachsen Masters 2023
TRANSP:OPAQUE
URL:https://www.cpsv.de/component/icagenda/14-18-internationale-sachsen-mas
 ters-2023/2023-03-11-15-26.html?Itemid=101
END:VEVENT
END:VCALENDAR
