BEGIN:VCALENDAR
VERSION:2.0
PRODID:-//CPSV//NONSGML kigkonsult.se iCalcreator 2.30.10//
CALSCALE:GREGORIAN
METHOD:PUBLISH
UID:c7279d9f-4523-41b4-9a09-a3c69f4dcee1
X-WR-CALNAME:iCagenda
X-WR-CALDESC:Event Management Extension for Joomla!
X-WR-RELCALID:3E26604A-50F4-4449-8B3E-E4F4932D05B5
X-WR-TIMEZONE:UTC
BEGIN:VTIMEZONE
TZID:UTC
END:VTIMEZONE
BEGIN:VEVENT
UID:fc4237c3-b5f2-460e-b03a-76b452e185d9
DTSTAMP:20260421T151207Z
CATEGORIES:Judo
CLASS:PUBLIC
DESCRIPTION;ALTREP="CID:<FFFF__=0ABBE548DFE235B58f9e8a93d@coffeebean.com>":
 Teilnahme entsprechend Qualifikation
DTSTART:20230304T153800Z
DTEND:20230305T000000Z
GEO:+52.355171;+14.529952
LOCATION:Brandenburg-Halle des Sportzentrums Frankfurt (Oder)
ORGANIZER:
SEQUENCE:1
SUMMARY:Deutsche-Einzelmeisterschaft u21\, männlich/weiblich
TRANSP:OPAQUE
URL:https://www.cpsv.de/component/icagenda/15-deutsche-einzelmeisterschaft-
 u21-maennlich-weiblich.html?Itemid=101
END:VEVENT
END:VCALENDAR
