BEGIN:VCALENDAR
VERSION:2.0
PRODID:-//CPSV//NONSGML kigkonsult.se iCalcreator 2.30.10//
CALSCALE:GREGORIAN
METHOD:PUBLISH
UID:c14ab95d-df48-436d-bada-90db6856f3f0
X-WR-CALNAME:iCagenda
X-WR-CALDESC:Event Management Extension for Joomla!
X-WR-RELCALID:3E26604A-50F4-4449-8B3E-E4F4932D05B5
X-WR-TIMEZONE:UTC
BEGIN:VTIMEZONE
TZID:UTC
END:VTIMEZONE
BEGIN:VEVENT
UID:9e5884eb-fba8-4b1e-bb6a-589fccc3b686
DTSTAMP:20260421T151138Z
CATEGORIES:Judo
CLASS:PUBLIC
DESCRIPTION:
DTSTART:20230325T000000Z
DTEND:20230325T000000Z
GEO:+50.528549;+12.406408
LOCATION:Göltzschtalhalle Rodewisch
ORGANIZER:
SEQUENCE:1
SUMMARY:Offenes Vogtlandpokalturnier U9/U11
TRANSP:OPAQUE
URL:https://www.cpsv.de/component/icagenda/16-offenes-vogtlandpokalturnier-
 u9-u11/2023-03-25-00-00.html?Itemid=101
END:VEVENT
END:VCALENDAR
