BEGIN:VCALENDAR
VERSION:2.0
PRODID:-//CPSV//NONSGML kigkonsult.se iCalcreator 2.30.10//
CALSCALE:GREGORIAN
METHOD:PUBLISH
UID:d30cc0e1-08ae-411f-b262-143210396327
X-WR-CALNAME:iCagenda
X-WR-CALDESC:Event Management Extension for Joomla!
X-WR-RELCALID:3E26604A-50F4-4449-8B3E-E4F4932D05B5
X-WR-TIMEZONE:UTC
BEGIN:VTIMEZONE
TZID:UTC
END:VTIMEZONE
BEGIN:VEVENT
UID:da383fd2-c042-46ca-846a-493fa1851559
DTSTAMP:20260421T150201Z
CATEGORIES:Judo
CLASS:PUBLIC
DESCRIPTION:
DTSTART:20230318T084500Z
DTEND:20230318T084500Z
GEO:+50.797939;+12.941011
LOCATION:Zentraldojo CPSC BUDO e.V. Sportforum Chemnitz\, Einfahrt Südring\
 , Reichenhainer Straße 254\, 09125 Chemnitz
ORGANIZER:
SEQUENCE:1
SUMMARY:Judo - Bezirkseinzelmeisterschaft der Altersklasse u13 SB Chemnitz
TRANSP:OPAQUE
URL:https://www.cpsv.de/component/icagenda/20-judo-bezirkseinzelmeisterscha
 ft-der-altersklasse-u13-sb-chemnitz-2/2023-03-18-08-45.html?Itemid=101
END:VEVENT
END:VCALENDAR
