BEGIN:VCALENDAR
VERSION:2.0
PRODID:-//CPSV//NONSGML kigkonsult.se iCalcreator 2.30.10//
CALSCALE:GREGORIAN
METHOD:PUBLISH
UID:7bfee396-b514-4e9b-9363-5e446260c9bd
X-WR-CALNAME:iCagenda
X-WR-CALDESC:Event Management Extension for Joomla!
X-WR-RELCALID:3E26604A-50F4-4449-8B3E-E4F4932D05B5
X-WR-TIMEZONE:UTC
BEGIN:VTIMEZONE
TZID:UTC
END:VTIMEZONE
BEGIN:VEVENT
UID:96d81fa1-cc1e-4f7b-a338-fe9e567462b3
DTSTAMP:20260421T161031Z
CATEGORIES:Judo
CLASS:PUBLIC
DESCRIPTION;ALTREP="CID:<FFFF__=0ABBE548DFE235B58f9e8a93d@coffeebean.com>":
 Teilnahme enstprechend Qualifikation über BEM u13
DTSTART:20230401T090000Z
DTEND:20230401T090000Z
GEO:+51.071854;+13.73219
LOCATION:Turnhalle des Gymnasiums Pieschen\, Erfurter Str. 17\, 01127 Dresd
 en
ORGANIZER:
SEQUENCE:1
SUMMARY:Judo - Landeseinzelmeisterschaften u13
TRANSP:OPAQUE
URL:https://www.cpsv.de/component/icagenda/21-judo-landeseinzelmeisterschaf
 ten-u13/2023-04-01-09-00.html?Itemid=101
END:VEVENT
END:VCALENDAR
