BEGIN:VCALENDAR
VERSION:2.0
PRODID:-//CPSV//NONSGML kigkonsult.se iCalcreator 2.30.10//
CALSCALE:GREGORIAN
METHOD:PUBLISH
UID:5476aa72-15c5-4815-9764-a74b41b0cb6f
X-WR-CALNAME:iCagenda
X-WR-CALDESC:Event Management Extension for Joomla!
X-WR-RELCALID:3E26604A-50F4-4449-8B3E-E4F4932D05B5
X-WR-TIMEZONE:UTC
BEGIN:VTIMEZONE
TZID:UTC
END:VTIMEZONE
BEGIN:VEVENT
UID:2c095853-a525-4953-b0d1-5acd911a1295
DTSTAMP:20260421T175320Z
CATEGORIES:Judo
CLASS:PUBLIC
DESCRIPTION;ALTREP="CID:<FFFF__=0ABBE548DFE235B58f9e8a93d@coffeebean.com>":
 Bezirkseinzelmeisterschaft 2023 u11
DTSTART:20230513T000000Z
DTEND:20230513T000000Z
GEO:+50.804691;+12.93403
LOCATION:Zentraldojo CPSC BUDO e.V. Sportforum Chemnitz\, Einfahrt Südring\
 , Reichenhainer Straße 254\, 09125 Chemnitz
ORGANIZER:
SEQUENCE:1
SUMMARY:Judo - Bezirkseinzelmeisterschaft 2023 der Altersklasse u11 SB Chem
 nitz
TRANSP:OPAQUE
URL:https://www.cpsv.de/component/icagenda/23-judo-bezirkseinzelmeisterscha
 ft-2023-der-altersklasse-u11-sb-chemnitz/2023-05-13-00-00.html?Itemid=101
END:VEVENT
END:VCALENDAR
