BEGIN:VCALENDAR
VERSION:2.0
PRODID:-//CPSV//NONSGML kigkonsult.se iCalcreator 2.30.10//
CALSCALE:GREGORIAN
METHOD:PUBLISH
UID:76f335bd-4d7a-4c17-958c-324dc18de212
X-WR-CALNAME:iCagenda
X-WR-CALDESC:Event Management Extension for Joomla!
X-WR-RELCALID:3E26604A-50F4-4449-8B3E-E4F4932D05B5
X-WR-TIMEZONE:UTC
BEGIN:VTIMEZONE
TZID:UTC
END:VTIMEZONE
BEGIN:VEVENT
UID:be0a9a65-fb78-4590-8890-eea6aa619c59
DTSTAMP:20260421T174932Z
CATEGORIES:Judo
CLASS:PUBLIC
DESCRIPTION:
DTSTART:20230513T000000Z
DTEND:20230513T000000Z
GEO:00;0
LOCATION:Mehrzweckhalle Langenhessen\, Seelingstädter Str. 7 08412 Werdau O
 T Langenhessen
ORGANIZER:
SEQUENCE:1
SUMMARY:17. Werdauer Mädchen-Pokal 2023
TRANSP:OPAQUE
URL:https://www.cpsv.de/component/icagenda/24-17-werdauer-maedchen-pokal-20
 23/2023-05-13-00-00.html?Itemid=101
END:VEVENT
END:VCALENDAR
