BEGIN:VCALENDAR
VERSION:2.0
PRODID:-//CPSV//NONSGML kigkonsult.se iCalcreator 2.30.10//
CALSCALE:GREGORIAN
METHOD:PUBLISH
UID:0aad5a03-5733-4bba-9186-f58021322dc8
X-WR-CALNAME:iCagenda
X-WR-CALDESC:Event Management Extension for Joomla!
X-WR-RELCALID:3E26604A-50F4-4449-8B3E-E4F4932D05B5
X-WR-TIMEZONE:UTC
BEGIN:VTIMEZONE
TZID:UTC
END:VTIMEZONE
BEGIN:VEVENT
UID:267face7-4a40-4b3b-b9b4-f2186d3e1c47
DTSTAMP:20260421T175152Z
CATEGORIES:Judo
CLASS:PUBLIC
DESCRIPTION;ALTREP="CID:<FFFF__=0ABBE548DFE235B58f9e8a93d@coffeebean.com>":
 Laut Einladung
DTSTART:20230520T171500Z
DTEND:20230520T171500Z
GEO:+50.06773;+12.375484
LOCATION:Sportovni hala Lokomotiva Cheb\, 1295/1\, U Stadionu\, Eger\, Bezi
 rk Eger\, Karlsbader Region\, Nordwesten\, 350 02\, Tschechien
ORGANIZER:
SEQUENCE:1
SUMMARY:Großer Pokal der Stadt Cheb (CZ)
TRANSP:OPAQUE
URL:https://www.cpsv.de/component/icagenda/25-grosser-pokal-der-stadt-cheb-
 cz/2023-05-20-17-15.html?Itemid=101
END:VEVENT
END:VCALENDAR
