BEGIN:VCALENDAR
VERSION:2.0
PRODID:-//CPSV//NONSGML kigkonsult.se iCalcreator 2.30.10//
CALSCALE:GREGORIAN
METHOD:PUBLISH
UID:8804fc89-65fd-4476-83d6-693bddba7e5c
X-WR-CALNAME:iCagenda
X-WR-CALDESC:Event Management Extension for Joomla!
X-WR-RELCALID:3E26604A-50F4-4449-8B3E-E4F4932D05B5
X-WR-TIMEZONE:UTC
BEGIN:VTIMEZONE
TZID:UTC
END:VTIMEZONE
BEGIN:VEVENT
UID:86e5446e-a705-4a88-a301-2849da75cea9
DTSTAMP:20260421T192012Z
CATEGORIES:Judo
CLASS:PUBLIC
DESCRIPTION;ALTREP="CID:<FFFF__=0ABBE548DFE235B58f9e8a93d@coffeebean.com>":
 Altersklasse u9/u11/u13
DTSTART:20230603T122500Z
DTEND:20230603T122500Z
GEO:+51.145206;+14.244042
LOCATION:Sport- und Freizeitzentrum Demitz-Thumitz\, Kiefernbuschweg 4\, 01
 877 Demitz-Thumitz
ORGANIZER:
SEQUENCE:1
SUMMARY:Judo - 7. Rammenauer Zwergenpokal
TRANSP:OPAQUE
URL:https://www.cpsv.de/component/icagenda/26-judo-7-rammenauer-zwergenpoka
 l/2023-06-03-12-25.html?Itemid=101
END:VEVENT
END:VCALENDAR
