BEGIN:VCALENDAR
VERSION:2.0
PRODID:-//CPSV//NONSGML kigkonsult.se iCalcreator 2.30.10//
CALSCALE:GREGORIAN
METHOD:PUBLISH
UID:dca1958b-a159-4585-89d3-2aa23b0fa6dd
X-WR-CALNAME:iCagenda
X-WR-CALDESC:Event Management Extension for Joomla!
X-WR-RELCALID:3E26604A-50F4-4449-8B3E-E4F4932D05B5
X-WR-TIMEZONE:UTC
BEGIN:VTIMEZONE
TZID:UTC
END:VTIMEZONE
BEGIN:VEVENT
UID:2d044f9f-8a09-4681-8bbc-9cd297fd4103
DTSTAMP:20260421T192154Z
CATEGORIES:Judo
CLASS:PUBLIC
DESCRIPTION:
DTSTART:20230603T123300Z
DTEND:20230603T123300Z
GEO:+51.376644;+12.415774
LOCATION:Schulsporthalle der F.-A.-Brockhausschule\, Samuel-Lampel-Str. 1\,
  04349 Leipzig
ORGANIZER:
SEQUENCE:1
SUMMARY:Judo - 3. Kampftag der Verbandsliga Sachsen Männer 2023
TRANSP:OPAQUE
URL:https://www.cpsv.de/component/icagenda/27-judo-3-kampftag-der-verbandsl
 iga-sachsen-maenner-2023/2023-06-03-12-33.html?Itemid=101
END:VEVENT
END:VCALENDAR
