BEGIN:VCALENDAR
VERSION:2.0
PRODID:-//CPSV//NONSGML kigkonsult.se iCalcreator 2.30.10//
CALSCALE:GREGORIAN
METHOD:PUBLISH
UID:2a0f173f-984f-4c67-a1cc-5cf68e6f90cf
X-WR-CALNAME:iCagenda
X-WR-CALDESC:Event Management Extension for Joomla!
X-WR-RELCALID:3E26604A-50F4-4449-8B3E-E4F4932D05B5
X-WR-TIMEZONE:UTC
BEGIN:VTIMEZONE
TZID:UTC
END:VTIMEZONE
BEGIN:VEVENT
UID:3b6a6ceb-783e-431b-801d-132428105e29
DTSTAMP:20260421T192233Z
CATEGORIES:Judo
CLASS:PUBLIC
DESCRIPTION:
DTSTART:20230610T124200Z
DTEND:20230610T124200Z
GEO:+50.81638;+12.38393
LOCATION:Haus der Vereine\, Mannichswalder Straße 22\, 08451 Crimmitschau
ORGANIZER:
SEQUENCE:1
SUMMARY:Judo - 2. Kampftag der Verbandsliga Frauen 2023
TRANSP:OPAQUE
URL:https://www.cpsv.de/component/icagenda/28-judo-2-kampftag-der-verbandsl
 iga-frauen-2023/2023-06-10-12-42.html?Itemid=101
END:VEVENT
END:VCALENDAR
