BEGIN:VCALENDAR
VERSION:2.0
PRODID:-//CPSV//NONSGML kigkonsult.se iCalcreator 2.30.10//
CALSCALE:GREGORIAN
METHOD:PUBLISH
UID:d4435384-6824-413d-8a2d-2ca935d60841
X-WR-CALNAME:iCagenda
X-WR-CALDESC:Event Management Extension for Joomla!
X-WR-RELCALID:3E26604A-50F4-4449-8B3E-E4F4932D05B5
X-WR-TIMEZONE:UTC
BEGIN:VTIMEZONE
TZID:UTC
END:VTIMEZONE
BEGIN:VEVENT
UID:2e201f3c-219f-4631-a014-2ca8f2ad7d3f
DTSTAMP:20260421T192012Z
CATEGORIES:Judo
CLASS:PUBLIC
DESCRIPTION;ALTREP="CID:<FFFF__=0ABBE548DFE235B58f9e8a93d@coffeebean.com>":
 Teilnahme für AK u15
DTSTART:20230624T122500Z
DTEND:20230624T122500Z
GEO:+50.785587;+12.879435
LOCATION:Turnhalle des CPSV an der Ernst-Wabra-Straße 36\, 09123 Chemnitz
ORGANIZER:
SEQUENCE:1
SUMMARY:Judo - Offene Matte der AK u15
TRANSP:OPAQUE
URL:https://www.cpsv.de/component/icagenda/29-judo-offene-matte-der-ak-u15/
 2023-06-24-12-25.html?Itemid=101
END:VEVENT
END:VCALENDAR
