BEGIN:VCALENDAR
VERSION:2.0
PRODID:-//CPSV//NONSGML kigkonsult.se iCalcreator 2.30.10//
CALSCALE:GREGORIAN
METHOD:PUBLISH
UID:f20d0baa-6e8c-413f-8f18-534ceee0e786
X-WR-CALNAME:iCagenda
X-WR-CALDESC:Event Management Extension for Joomla!
X-WR-RELCALID:3E26604A-50F4-4449-8B3E-E4F4932D05B5
X-WR-TIMEZONE:UTC
BEGIN:VTIMEZONE
TZID:UTC
END:VTIMEZONE
BEGIN:VEVENT
UID:ce6091a9-fce6-4180-8872-cdf5e90b52ac
DTSTAMP:20260421T192146Z
CATEGORIES:Judo
CLASS:PUBLIC
DESCRIPTION;ALTREP="CID:<FFFF__=0ABBE548DFE235B58f9e8a93d@coffeebean.com>":
 Judoka der AK u11 und u13
DTSTART:20230617T124000Z
DTEND:20230617T124000Z
GEO:+51.117367;+13.125419
LOCATION:Stadtsporthalle Döbeln\, Straße des Friedens 9\, 04720 Döbeln
ORGANIZER:
SEQUENCE:1
SUMMARY:Judo - 12. Stiefelpokal Döbeln
TRANSP:OPAQUE
URL:https://www.cpsv.de/component/icagenda/30-judo-12-stiefelpokal-doebeln/
 2023-06-17-12-40.html?Itemid=101
END:VEVENT
END:VCALENDAR
