BEGIN:VCALENDAR
VERSION:2.0
PRODID:-//CPSV//NONSGML kigkonsult.se iCalcreator 2.30.10//
CALSCALE:GREGORIAN
METHOD:PUBLISH
UID:d9b71d34-d57d-4a23-a4fe-32e2fe06093f
X-WR-CALNAME:iCagenda
X-WR-CALDESC:Event Management Extension for Joomla!
X-WR-RELCALID:3E26604A-50F4-4449-8B3E-E4F4932D05B5
X-WR-TIMEZONE:UTC
BEGIN:VTIMEZONE
TZID:UTC
END:VTIMEZONE
BEGIN:VEVENT
UID:36e4d0e3-9fa4-4111-a3a3-b993f3e95a5a
DTSTAMP:20260421T192134Z
CATEGORIES:Judo
CLASS:PUBLIC
DESCRIPTION:
DTSTART:20230617T075700Z
DTEND:20230617T075700Z
GEO:+50.528603;+12.406469
LOCATION:Göltzschtalhalle Rodewisch\, Hüllebrandweg 1 08228 Rodewisch
ORGANIZER:
SEQUENCE:1
SUMMARY:Judo - 4. Kampftag der Verbandsliga Sachsen Männer 2023
TRANSP:OPAQUE
URL:https://www.cpsv.de/component/icagenda/35-judo-4-kampftag-der-verbandsl
 iga-sachsen-maenner-2023/2023-06-17-07-57.html?Itemid=101
END:VEVENT
END:VCALENDAR
