BEGIN:VCALENDAR
VERSION:2.0
PRODID:-//CPSV//NONSGML kigkonsult.se iCalcreator 2.30.10//
CALSCALE:GREGORIAN
METHOD:PUBLISH
UID:8f361a8c-3aab-4bce-bb1f-e3b364198e6a
X-WR-CALNAME:iCagenda
X-WR-CALDESC:Event Management Extension for Joomla!
X-WR-RELCALID:3E26604A-50F4-4449-8B3E-E4F4932D05B5
X-WR-TIMEZONE:UTC
BEGIN:VTIMEZONE
TZID:UTC
END:VTIMEZONE
BEGIN:VEVENT
UID:281ce3df-f986-4a63-af54-e0c4004afe04
DTSTAMP:20260421T210353Z
CATEGORIES:Judo
CLASS:PUBLIC
DESCRIPTION;ALTREP="CID:<FFFF__=0ABBE548DFE235B58f9e8a93d@coffeebean.com>":
 Landesjugendspiele 2023 der AK u13 m/w
DTSTART:20230701T080200Z
DTEND:20230701T080200Z
GEO:+51.071854;+13.73219
LOCATION:Turnhalle des Gymnasiums Pieschen\, Erfurter Str. 17\, 01127 Dresd
 en
ORGANIZER:
SEQUENCE:1
SUMMARY:Judo - Landesjugendspiele 2023\, u13
TRANSP:OPAQUE
URL:https://www.cpsv.de/component/icagenda/36-judo-landesjugendspiele-2023-
 u13/2023-07-01-08-02.html?Itemid=101
END:VEVENT
END:VCALENDAR
