BEGIN:VCALENDAR
VERSION:2.0
PRODID:-//CPSV//NONSGML kigkonsult.se iCalcreator 2.30.10//
CALSCALE:GREGORIAN
METHOD:PUBLISH
UID:851fab18-c028-404d-a49f-bede3a39d932
X-WR-CALNAME:iCagenda
X-WR-CALDESC:Event Management Extension for Joomla!
X-WR-RELCALID:3E26604A-50F4-4449-8B3E-E4F4932D05B5
X-WR-TIMEZONE:UTC
BEGIN:VTIMEZONE
TZID:UTC
END:VTIMEZONE
BEGIN:VEVENT
UID:bd50447a-e326-481f-9f4b-f933dca6da02
DTSTAMP:20260421T210414Z
CATEGORIES:Judo
CLASS:PUBLIC
DESCRIPTION;ALTREP="CID:<FFFF__=0ABBE548DFE235B58f9e8a93d@coffeebean.com>":
 Landesjugendspiele 2023 AK u15 m/w
DTSTART:20230702T080900Z
DTEND:20230702T080900Z
GEO:+51.071854;+13.73219
LOCATION:Turnhalle des Gymnasiums Pieschen\, Erfurter Str. 17\, 01127 Dresd
 en
ORGANIZER:
SEQUENCE:1
SUMMARY:Judo - Landesjugendspiele 2023\, u15
TRANSP:OPAQUE
URL:https://www.cpsv.de/component/icagenda/37-judo-landesjugendspiele-2023-
 u15/2023-07-02-08-09.html?Itemid=101
END:VEVENT
END:VCALENDAR
