BEGIN:VCALENDAR
VERSION:2.0
PRODID:-//CPSV//NONSGML kigkonsult.se iCalcreator 2.30.10//
CALSCALE:GREGORIAN
METHOD:PUBLISH
UID:b7e66e84-767d-4baf-bce8-33a316894e7e
X-WR-CALNAME:iCagenda
X-WR-CALDESC:Event Management Extension for Joomla!
X-WR-RELCALID:3E26604A-50F4-4449-8B3E-E4F4932D05B5
X-WR-TIMEZONE:UTC
BEGIN:VTIMEZONE
TZID:UTC
END:VTIMEZONE
BEGIN:VEVENT
UID:a3bba505-4ebb-48c4-b259-9a0bbf8286c8
DTSTAMP:20260421T210213Z
CATEGORIES:Judo
CLASS:PUBLIC
DESCRIPTION;ALTREP="CID:<FFFF__=0ABBE548DFE235B58f9e8a93d@coffeebean.com>":
 An alle Sportlerinne U18 Frauen\nLiebe Sportlerinnen\, liebe Trainer\,ich 
 lade euch hiermit zur offenen Matte recht herzlich ein.\nOrt:&nbsp\;&nbsp\
 ;&nbsp\;&nbsp\;&nbsp\;&nbsp\;&nbsp\;&nbsp\;&nbsp\;&nbsp\;&nbsp\;&nbsp\;&nb
 sp\;&nbsp\;&nbsp\;&nbsp\; Turnhalle CPSV\, Ernst-Wabra-Straße 36\, 09123 C
 hemnitz\nDatum:&nbsp\;&nbsp\;&nbsp\;&nbsp\;&nbsp\;&nbsp\;&nbsp\;&nbsp\;&nb
 sp\;&nbsp\;&nbsp\; 19.11.2022\nZeit:&nbsp\;&nbsp\;&nbsp\;&nbsp\;&nbsp\;&nb
 sp\;&nbsp\;&nbsp\;&nbsp\;&nbsp\;&nbsp\;&nbsp\;&nbsp\;&nbsp\;&nbsp\;&nbsp\;
  9:30 – 14:00 Uhr\nThema:&nbsp\;&nbsp\;&nbsp\;&nbsp\;&nbsp\;&nbsp\;&nbsp\;
 &nbsp\;&nbsp\;&nbsp\; Techniktraining/ Randori\nTrainer:&nbsp\;&nbsp\;&nbs
 p\;&nbsp\;&nbsp\;&nbsp\;&nbsp\;&nbsp\;&nbsp\;&nbsp\; Rene Pröger\, weitere
  Vereinstrainer sind auf der Tatami gern gesehen\nMeldung:&nbsp\;&nbsp\;&n
 bsp\;&nbsp\;&nbsp\;&nbsp\;&nbsp\; Rückmeldung bis 05.11.2022\nTeilnehmer:&
 nbsp\;&nbsp\;&nbsp\;&nbsp\; Sportlerinnen der U 18 - Frauen\nVerpflegung:&
 nbsp\;&nbsp\; Imbiss in der Halle vorhanden\n&nbsp\;\nMit sportlichen Grüß
 en\nU. Heuschkel
DTSTART:20221119T093000Z
DTEND:20221119T112800Z
GEO:00;0
LOCATION:
ORGANIZER:
SEQUENCE:1
SUMMARY:Judo-Offene Matte Frauen U18
TRANSP:OPAQUE
URL:https://www.cpsv.de/component/icagenda/4-offene-matte.html?Itemid=101
END:VEVENT
END:VCALENDAR
