BEGIN:VCALENDAR
VERSION:2.0
PRODID:-//CPSV//NONSGML kigkonsult.se iCalcreator 2.30.10//
CALSCALE:GREGORIAN
METHOD:PUBLISH
UID:38f3caca-e2ec-4267-8a4f-24714131b9dc
X-WR-CALNAME:iCagenda
X-WR-CALDESC:Event Management Extension for Joomla!
X-WR-RELCALID:3E26604A-50F4-4449-8B3E-E4F4932D05B5
X-WR-TIMEZONE:UTC
BEGIN:VTIMEZONE
TZID:UTC
END:VTIMEZONE
BEGIN:VEVENT
UID:2da07f46-0d51-42c9-a04c-ad232cc0fdaa
DTSTAMP:20260421T191942Z
CATEGORIES:Judo
CLASS:PUBLIC
DESCRIPTION;ALTREP="CID:<FFFF__=0ABBE548DFE235B58f9e8a93d@coffeebean.com>":
 Judoka u9/u11
DTSTART:20230624T171800Z
DTEND:20230624T171800Z
GEO:+51.655979;+12.272417
LOCATION:Jahnturnhalle\, Jahnsportplatz\, Jahnstraße 43\, 06766 Bitterfeld-
 Wolfen
ORGANIZER:
SEQUENCE:1
SUMMARY:Judo - Wolfener Turnier
TRANSP:OPAQUE
URL:https://www.cpsv.de/component/icagenda/50-judo-wolfener-turnier/2023-06
 -24-17-18.html?Itemid=101
END:VEVENT
END:VCALENDAR
