BEGIN:VCALENDAR
VERSION:2.0
PRODID:-//CPSV//NONSGML kigkonsult.se iCalcreator 2.30.10//
CALSCALE:GREGORIAN
METHOD:PUBLISH
UID:2401b417-10b5-40ae-8198-769969787ea9
X-WR-CALNAME:iCagenda
X-WR-CALDESC:Event Management Extension for Joomla!
X-WR-RELCALID:3E26604A-50F4-4449-8B3E-E4F4932D05B5
X-WR-TIMEZONE:UTC
BEGIN:VTIMEZONE
TZID:UTC
END:VTIMEZONE
BEGIN:VEVENT
UID:f5bda308-13fe-48cf-880e-f9fb278423d9
DTSTAMP:20260421T223852Z
CATEGORIES:Judo
CLASS:PUBLIC
DESCRIPTION;ALTREP="CID:<FFFF__=0ABBE548DFE235B58f9e8a93d@coffeebean.com>":
 3. Auto-Gyra Kids-Cup U11 / U13
DTSTART:20230902T090000Z
DTEND:20230902T090000Z
GEO:+50.318047;+12.25536
LOCATION:SPORTHALLE ADORF\,  Lessingstraße 15\,  08626 Adorf/V.
ORGANIZER:
SEQUENCE:1
SUMMARY:Judo - 3. Auto-Gyra Kids-Cup U11 / U13
TRANSP:OPAQUE
URL:https://www.cpsv.de/component/icagenda/51-judo-3-auto-gyra-kids-cup-u11
 -u13/2023-09-02-09-00.html?Itemid=101
END:VEVENT
END:VCALENDAR
