BEGIN:VCALENDAR
VERSION:2.0
PRODID:-//CPSV//NONSGML kigkonsult.se iCalcreator 2.30.10//
CALSCALE:GREGORIAN
METHOD:PUBLISH
UID:0efac4b9-9183-4cf2-a233-0bf837e30f75
X-WR-CALNAME:iCagenda
X-WR-CALDESC:Event Management Extension for Joomla!
X-WR-RELCALID:3E26604A-50F4-4449-8B3E-E4F4932D05B5
X-WR-TIMEZONE:UTC
BEGIN:VTIMEZONE
TZID:UTC
END:VTIMEZONE
BEGIN:VEVENT
UID:6d6d56c7-2658-421c-ad28-1fe5771c7b31
DTSTAMP:20260421T205447Z
CATEGORIES:Judo
CLASS:PUBLIC
DESCRIPTION;ALTREP="CID:<FFFF__=0ABBE548DFE235B58f9e8a93d@coffeebean.com>":
 Pokalturnier für Judoka der AK u9\, u13\, u18\, u21
DTSTART:20231028T080000Z
DTEND:20231028T080000Z
GEO:+51.145206;+14.244042
LOCATION:Sport- und Freizeitzentrum Demitz-Thumitz
ORGANIZER:
SEQUENCE:1
SUMMARY:28. Internationales Rammenauer Pokalturnier 2023
TRANSP:OPAQUE
URL:https://www.cpsv.de/component/icagenda/52-28-internationales-rammenauer
 -pokalturnier-2023/2023-10-28-08-00.html?Itemid=101
END:VEVENT
END:VCALENDAR
