BEGIN:VCALENDAR
VERSION:2.0
PRODID:-//CPSV//NONSGML kigkonsult.se iCalcreator 2.30.10//
CALSCALE:GREGORIAN
METHOD:PUBLISH
UID:0f95039d-ab8c-422c-b543-dbead6c9c7ee
X-WR-CALNAME:iCagenda
X-WR-CALDESC:Event Management Extension for Joomla!
X-WR-RELCALID:3E26604A-50F4-4449-8B3E-E4F4932D05B5
X-WR-TIMEZONE:UTC
BEGIN:VTIMEZONE
TZID:UTC
END:VTIMEZONE
BEGIN:VEVENT
UID:6314eb1a-6dba-43f1-887f-c77f035f1271
DTSTAMP:20260421T205315Z
CATEGORIES:Judo
CLASS:PUBLIC
DESCRIPTION;ALTREP="CID:<FFFF__=0ABBE548DFE235B58f9e8a93d@coffeebean.com>":
 Pokalturnier für Judoka der AK u11\, u15\, Frauen und Männer
DTSTART:20231029T080000Z
DTEND:20231029T080000Z
GEO:+51.145206;+14.244042
LOCATION:Sport- und Freizeitzentrum Demitz-Thumitz
ORGANIZER:
SEQUENCE:1
SUMMARY:28. Internationales Rammenauer Pokalturnier 2023
TRANSP:OPAQUE
URL:https://www.cpsv.de/component/icagenda/53-28-internationales-rammenauer
 -pokalturnier-2024/2023-10-29-08-00.html?Itemid=101
END:VEVENT
END:VCALENDAR
