BEGIN:VCALENDAR
VERSION:2.0
PRODID:-//CPSV//NONSGML kigkonsult.se iCalcreator 2.30.10//
CALSCALE:GREGORIAN
METHOD:PUBLISH
UID:47977c0d-b9d3-4846-a758-49c758bc6ac4
X-WR-CALNAME:iCagenda
X-WR-CALDESC:Event Management Extension for Joomla!
X-WR-RELCALID:3E26604A-50F4-4449-8B3E-E4F4932D05B5
X-WR-TIMEZONE:UTC
BEGIN:VTIMEZONE
TZID:UTC
END:VTIMEZONE
BEGIN:VEVENT
UID:69f04c5d-eaf5-4de1-b9eb-21ae291fab34
DTSTAMP:20260421T192154Z
CATEGORIES:Judo
CLASS:PUBLIC
DESCRIPTION;ALTREP="CID:<FFFF__=0ABBE548DFE235B58f9e8a93d@coffeebean.com>":
 Mitteldeutsche Einzelmeisterschaften der u15 2023 laut Qualifikationskrite
 rien
DTSTART:20231104T093000Z
DTEND:20231104T093000Z
GEO:+50.528603;+12.406469
LOCATION:Göltzschtalhalle\, Hüllebrandweg 1 (ehemals Schillerstraße 4)\, 08
 228 Rodewisch
ORGANIZER:
SEQUENCE:1
SUMMARY:Judo - Mitteldeutsche Einzelmeisterschaften männliche und weibliche
  Jugend U15 2023
TRANSP:OPAQUE
URL:https://www.cpsv.de/component/icagenda/54-judo-mitteldeutsche-einzelmei
 sterschaften-maennliche-und-weibliche-jugend-u15-2023/2023-11-04-09-30.htm
 l?Itemid=101
END:VEVENT
END:VCALENDAR
