BEGIN:VCALENDAR
VERSION:2.0
PRODID:-//CPSV//NONSGML kigkonsult.se iCalcreator 2.30.10//
CALSCALE:GREGORIAN
METHOD:PUBLISH
UID:f036864f-919c-4bc4-becc-966682240d3c
X-WR-CALNAME:iCagenda
X-WR-CALDESC:Event Management Extension for Joomla!
X-WR-RELCALID:3E26604A-50F4-4449-8B3E-E4F4932D05B5
X-WR-TIMEZONE:UTC
BEGIN:VTIMEZONE
TZID:UTC
END:VTIMEZONE
BEGIN:VEVENT
UID:489186f2-b4a7-48e8-9ea7-bae20c409718
DTSTAMP:20260421T175238Z
CATEGORIES:Judo
CLASS:PUBLIC
DESCRIPTION;ALTREP="CID:<FFFF__=0ABBE548DFE235B58f9e8a93d@coffeebean.com>":
 Start der Kampfgemeinschaft u15w CPSV/ JV Ippon Rodewisch
DTSTART:20231209T000000Z
DTEND:20231209T000000Z
GEO:00;0
LOCATION:Niederlausitzhalle Senftenberg
ORGANIZER:
SEQUENCE:1
SUMMARY:Judo - Deutsche-Vereins- Mannschaftsmeisterschaft U15 (Deutscher Ju
 gend-Pokal) 2023
TRANSP:OPAQUE
URL:https://www.cpsv.de/component/icagenda/59-judo-deutsche-vereins-mannsch
 aftsmeisterschaft-u15-deutscher-jugend-pokal-2023/2023-12-09-00-00.html?It
 emid=101
END:VEVENT
END:VCALENDAR
