BEGIN:VCALENDAR
VERSION:2.0
PRODID:-//CPSV//NONSGML kigkonsult.se iCalcreator 2.30.10//
CALSCALE:GREGORIAN
METHOD:PUBLISH
UID:44194c2c-e559-4684-bb79-8bee077cbf88
X-WR-CALNAME:iCagenda
X-WR-CALDESC:Event Management Extension for Joomla!
X-WR-RELCALID:3E26604A-50F4-4449-8B3E-E4F4932D05B5
X-WR-TIMEZONE:UTC
BEGIN:VTIMEZONE
TZID:UTC
END:VTIMEZONE
BEGIN:VEVENT
UID:42e6e3df-1787-4590-a1a3-6ea356034e96
DTSTAMP:20260421T174912Z
CATEGORIES:Judo
CLASS:PUBLIC
DESCRIPTION;ALTREP="CID:<FFFF__=0ABBE548DFE235B58f9e8a93d@coffeebean.com>":
 Lions Cup\, Wettkampf für die AK u9\, u11 und u13
DTSTART:20231217T080000Z
DTEND:20231217T080000Z
GEO:+51.333183;+12.381251
LOCATION:Sporthalle Brüderstraße
ORGANIZER:
SEQUENCE:1
SUMMARY:Judo - Lions Cup
TRANSP:OPAQUE
URL:https://www.cpsv.de/component/icagenda/60-judo-lions-cup/2023-12-17-08-
 00.html?Itemid=101
END:VEVENT
END:VCALENDAR
