BEGIN:VCALENDAR
VERSION:2.0
PRODID:-//CPSV//NONSGML kigkonsult.se iCalcreator 2.30.10//
CALSCALE:GREGORIAN
METHOD:PUBLISH
UID:9d5b434e-90b7-47f7-bd84-225ebfcdbd70
X-WR-CALNAME:iCagenda
X-WR-CALDESC:Event Management Extension for Joomla!
X-WR-RELCALID:3E26604A-50F4-4449-8B3E-E4F4932D05B5
X-WR-TIMEZONE:UTC
BEGIN:VTIMEZONE
TZID:UTC
END:VTIMEZONE
BEGIN:VEVENT
UID:0e48ea1a-1bf7-4251-8e40-9163f07efeae
DTSTAMP:20260421T175341Z
CATEGORIES:Judo
CLASS:PUBLIC
DESCRIPTION;ALTREP="CID:<FFFF__=0ABBE548DFE235B58f9e8a93d@coffeebean.com>":
 offene Landeseinzelmeisterschaft 2023 Frauen und Männer / Landesmannschaft
 smeisterschaften Mix
DTSTART:20231203T090000Z
DTEND:20231203T090000Z
GEO:+50.979637;+13.623574
LOCATION:Sporthalle Geschwister-Scholl Oberschule\, Richard-Wolf-Straße 1\,
  01705 Freital
ORGANIZER:
SEQUENCE:1
SUMMARY:Judo - Offene Landeseinzelmeisterschaft 2023 Frauen und Männer / LM
 M Mix
TRANSP:OPAQUE
URL:https://www.cpsv.de/component/icagenda/61-judo-offene-landeseinzelmeist
 erschaft-2023-frauen-und-maenner-lmm-mix/2023-12-03-09-00.html?Itemid=101
END:VEVENT
END:VCALENDAR
