BEGIN:VCALENDAR
VERSION:2.0
PRODID:-//CPSV//NONSGML kigkonsult.se iCalcreator 2.30.10//
CALSCALE:GREGORIAN
METHOD:PUBLISH
UID:9e9098fd-1036-4f2f-9422-25a426d9933e
X-WR-CALNAME:iCagenda
X-WR-CALDESC:Event Management Extension for Joomla!
X-WR-RELCALID:3E26604A-50F4-4449-8B3E-E4F4932D05B5
X-WR-TIMEZONE:UTC
BEGIN:VTIMEZONE
TZID:UTC
END:VTIMEZONE
BEGIN:VEVENT
UID:e120c71a-44c4-4871-905a-5b4acfd953fd
DTSTAMP:20260421T192314Z
CATEGORIES:Judo
CLASS:PUBLIC
DESCRIPTION;ALTREP="CID:<FFFF__=0ABBE548DFE235B58f9e8a93d@coffeebean.com>":
 Offene Mitteldeutsche Einzelmeisterschaften Frauen und Männer 2023
DTSTART:20231125T161100Z
DTEND:20231125T161100Z
GEO:+50.528549;+12.406408
LOCATION:Göltzschtalhalle\, Hüllebrandweg 1 (ehemals Schillerstraße 4)\, 08
 228 Rodewisch
ORGANIZER:
SEQUENCE:1
SUMMARY:Judo - Offene Mitteldeutsche Einzelmeisterschaften Frauen und Männe
 r 2023
TRANSP:OPAQUE
URL:https://www.cpsv.de/component/icagenda/62-judo-offene-mitteldeutsche-ei
 nzelmeisterschaften-frauen-und-maenner-2023/2023-11-25-16-11.html?Itemid=1
 01
END:VEVENT
END:VCALENDAR
