BEGIN:VCALENDAR
VERSION:2.0
PRODID:-//CPSV//NONSGML kigkonsult.se iCalcreator 2.30.10//
CALSCALE:GREGORIAN
METHOD:PUBLISH
UID:ca9dfa69-23d1-4322-9fb3-3964e1255f4c
X-WR-CALNAME:iCagenda
X-WR-CALDESC:Event Management Extension for Joomla!
X-WR-RELCALID:3E26604A-50F4-4449-8B3E-E4F4932D05B5
X-WR-TIMEZONE:UTC
BEGIN:VTIMEZONE
TZID:UTC
END:VTIMEZONE
BEGIN:VEVENT
UID:f1d3d6ab-77da-4850-9753-a1d25a5070d6
DTSTAMP:20260421T175320Z
CATEGORIES:Judo
CLASS:PUBLIC
DESCRIPTION;ALTREP="CID:<FFFF__=0ABBE548DFE235B58f9e8a93d@coffeebean.com>":
 Training mit dem mehrfachen österreichischen Landesmeister\, Franz Kofler\
 , 6. Dan\nu9/u11/u13&nbsp\; 13.00-15:45\nu18/F/M 16:00-19:00
DTSTART:20231202T162300Z
DTEND:20231202T162300Z
GEO:+50.785923;+12.879179
LOCATION:Dojo CPSV\, Ernst-Wabra-Str. 36\, 09123 Chemnitz
ORGANIZER:
SEQUENCE:1
SUMMARY:Judo - World Judo Family Projekt 1000
TRANSP:OPAQUE
URL:https://www.cpsv.de/component/icagenda/63-judo-world-judo-family-projek
 t-1000/2023-12-02-16-23.html?Itemid=101
END:VEVENT
END:VCALENDAR
