BEGIN:VCALENDAR
VERSION:2.0
PRODID:-//CPSV//NONSGML kigkonsult.se iCalcreator 2.30.10//
CALSCALE:GREGORIAN
METHOD:PUBLISH
UID:c63b5b26-d8f4-43e5-a66a-ad18da90cfee
X-WR-CALNAME:iCagenda
X-WR-CALDESC:Event Management Extension for Joomla!
X-WR-RELCALID:3E26604A-50F4-4449-8B3E-E4F4932D05B5
X-WR-TIMEZONE:UTC
BEGIN:VTIMEZONE
TZID:UTC
END:VTIMEZONE
BEGIN:VEVENT
UID:e84bcd26-bf2a-461b-a743-766ff603ed74
DTSTAMP:20260421T161214Z
CATEGORIES:Judo
CLASS:PUBLIC
DESCRIPTION;ALTREP="CID:<FFFF__=0ABBE548DFE235B58f9e8a93d@coffeebean.com>":
 Judo - 27. Internationaler Sparkassenpokal in Jena u11/u15\nTeilnahme laut
  Auswahl
DTSTART:20240113T080000Z
DTEND:20240113T080000Z
GEO:+50.914658;+11.588888
LOCATION:Judohalle Sportforum\, Am Stadion 1\, 07749 Jena
ORGANIZER:
SEQUENCE:1
SUMMARY:Judo - 27. Internationaler Sparkassenpokal in Jena u11/u15
TRANSP:OPAQUE
URL:https://www.cpsv.de/component/icagenda/64-judo-27-internationaler-spark
 assenpokal-in-jena-u11-u15/2024-01-13-08-00.html?Itemid=101
END:VEVENT
END:VCALENDAR
