BEGIN:VCALENDAR
VERSION:2.0
PRODID:-//CPSV//NONSGML kigkonsult.se iCalcreator 2.30.10//
CALSCALE:GREGORIAN
METHOD:PUBLISH
UID:7d3b4232-cd0e-4b9d-90a0-38715f1010f8
X-WR-CALNAME:iCagenda
X-WR-CALDESC:Event Management Extension for Joomla!
X-WR-RELCALID:3E26604A-50F4-4449-8B3E-E4F4932D05B5
X-WR-TIMEZONE:UTC
BEGIN:VTIMEZONE
TZID:UTC
END:VTIMEZONE
BEGIN:VEVENT
UID:0e6048e4-fdd3-43b2-b2de-5450e652d47d
DTSTAMP:20260421T161311Z
CATEGORIES:Judo
CLASS:PUBLIC
DESCRIPTION;ALTREP="CID:<FFFF__=0ABBE548DFE235B58f9e8a93d@coffeebean.com>":
 Judo - 27. Internationaler Sparkassenpokal in Jena u13/u18\nTeilnahme laut
  Auswahl
DTSTART:20240114T080000Z
DTEND:20240114T080000Z
GEO:+50.914658;+11.588888
LOCATION:Judohalle Sportforum\, Am Stadion 1\, 07749 Jena
ORGANIZER:
SEQUENCE:1
SUMMARY:Judo - 27. Internationaler Sparkassenpokal in Jena u13/u18
TRANSP:OPAQUE
URL:https://www.cpsv.de/component/icagenda/65-judo-27-internationaler-spark
 assenpokal-in-jena-u13-u18/2024-01-14-08-00.html?Itemid=101
END:VEVENT
END:VCALENDAR
