BEGIN:VCALENDAR
VERSION:2.0
PRODID:-//CPSV//NONSGML kigkonsult.se iCalcreator 2.30.10//
CALSCALE:GREGORIAN
METHOD:PUBLISH
UID:b61fbd5c-5a63-4662-afdd-d80d8a3d92c0
X-WR-CALNAME:iCagenda
X-WR-CALDESC:Event Management Extension for Joomla!
X-WR-RELCALID:3E26604A-50F4-4449-8B3E-E4F4932D05B5
X-WR-TIMEZONE:UTC
BEGIN:VTIMEZONE
TZID:UTC
END:VTIMEZONE
BEGIN:VEVENT
UID:110b1f2c-7bc3-4f49-bdd6-11118c56b8f1
DTSTAMP:20260421T210510Z
CATEGORIES:Judo
CLASS:PUBLIC
DESCRIPTION;ALTREP="CID:<FFFF__=0ABBE548DFE235B58f9e8a93d@coffeebean.com>":
 4. Auto-Gyra Kids-Cup u11/u13 2024
DTSTART:20240817T090000Z
DTEND:20240817T090000Z
GEO:+50.318047;+12.25536
LOCATION:SPORTHALLE ADORF Lessingstraße 15\, 08626 Adorf/V.
ORGANIZER:
SEQUENCE:1
SUMMARY:Judo - 4. Auto-Gyra Kids-Cup u11/u13 2024 in Adorf/Vogtland
TRANSP:OPAQUE
URL:https://www.cpsv.de/component/icagenda/66-judo-4-auto-gyra-kids-cup-u11
 -u13-2024-in-adorf-vogtland/2024-08-17-09-00.html?Itemid=101
END:VEVENT
END:VCALENDAR
