BEGIN:VCALENDAR
VERSION:2.0
PRODID:-//CPSV//NONSGML kigkonsult.se iCalcreator 2.30.10//
CALSCALE:GREGORIAN
METHOD:PUBLISH
UID:2baa8040-e4fe-498f-a48c-929e7c4cbb59
X-WR-CALNAME:iCagenda
X-WR-CALDESC:Event Management Extension for Joomla!
X-WR-RELCALID:3E26604A-50F4-4449-8B3E-E4F4932D05B5
X-WR-TIMEZONE:UTC
BEGIN:VTIMEZONE
TZID:UTC
END:VTIMEZONE
BEGIN:VEVENT
UID:f47c3e6b-0705-40a0-a389-f4b0bba84f7a
DTSTAMP:20260421T133218Z
CATEGORIES:Judo
CLASS:PUBLIC
DESCRIPTION;ALTREP="CID:<FFFF__=0ABBE548DFE235B58f9e8a93d@coffeebean.com>":
 22. Riesaer Stahl-Pokal u13/u15 m/w
DTSTART:20240309T083000Z
DTEND:20240309T083000Z
GEO:+51.315392;+13.269617
LOCATION:Sporthalle des BSZ T/W - Riesa\, Paul-Greifzu-Straße 51\, 01589 Ri
 esa\,
ORGANIZER:
SEQUENCE:1
SUMMARY:Judo - 22. Riesaer Stahl-Pokal
TRANSP:OPAQUE
URL:https://www.cpsv.de/component/icagenda/68-judo-22-riesaer-stahl-pokal/2
 024-03-09-08-30.html?Itemid=101
END:VEVENT
END:VCALENDAR
