BEGIN:VCALENDAR
VERSION:2.0
PRODID:-//CPSV//NONSGML kigkonsult.se iCalcreator 2.30.10//
CALSCALE:GREGORIAN
METHOD:PUBLISH
UID:de5f6ab3-6f66-4ed0-946e-8ac7530abe62
X-WR-CALNAME:iCagenda
X-WR-CALDESC:Event Management Extension for Joomla!
X-WR-RELCALID:3E26604A-50F4-4449-8B3E-E4F4932D05B5
X-WR-TIMEZONE:UTC
BEGIN:VTIMEZONE
TZID:UTC
END:VTIMEZONE
BEGIN:VEVENT
UID:493a83cb-77fd-4c06-a999-07d298ee4631
DTSTAMP:20260421T161122Z
CATEGORIES:Judo
CLASS:PUBLIC
DESCRIPTION;ALTREP="CID:<FFFF__=0ABBE548DFE235B58f9e8a93d@coffeebean.com>":
 Bezirkseinzelmeisterschaft 2024 U18 und U21 - Sportbezirk Chemnitz
DTSTART:20240120T084500Z
DTEND:20240120T084500Z
GEO:+50.81638;+12.38393
LOCATION:Haus der Vereine\, Mannichswalder Straße 22 08451 Crimmitschau
ORGANIZER:
SEQUENCE:1
SUMMARY:Judo - Bezirkseinzelmeisterschaft 2024 U18 und U21 - Sportbezirk Ch
 emnitz
TRANSP:OPAQUE
URL:https://www.cpsv.de/component/icagenda/70-judo-bezirkseinzelmeisterscha
 ft-2024-u18-und-u21-sportbezirk-chemnitz/2024-01-20-08-45.html?Itemid=101
END:VEVENT
END:VCALENDAR
