BEGIN:VCALENDAR
VERSION:2.0
PRODID:-//CPSV//NONSGML kigkonsult.se iCalcreator 2.30.10//
CALSCALE:GREGORIAN
METHOD:PUBLISH
UID:8541ace3-3d54-4039-9b48-a9ce8b809482
X-WR-CALNAME:iCagenda
X-WR-CALDESC:Event Management Extension for Joomla!
X-WR-RELCALID:3E26604A-50F4-4449-8B3E-E4F4932D05B5
X-WR-TIMEZONE:UTC
BEGIN:VTIMEZONE
TZID:UTC
END:VTIMEZONE
BEGIN:VEVENT
UID:cc86564a-c370-4474-920e-d02d2984c477
DTSTAMP:20260421T144953Z
CATEGORIES:Judo
CLASS:PUBLIC
DESCRIPTION;ALTREP="CID:<FFFF__=0ABBE548DFE235B58f9e8a93d@coffeebean.com>":
 Judo - 23. Neujahrsturnier Freital\, AK u9/u13/M/F/ü30M/F
DTSTART:20240203T083000Z
DTEND:20240203T083000Z
GEO:+50.979015;+13.623218
LOCATION:
ORGANIZER:
SEQUENCE:1
SUMMARY:Judo - 23. Neujahrsturnier Freital
TRANSP:OPAQUE
URL:https://www.cpsv.de/component/icagenda/71-judo-23-neujahrsturnier-freit
 al/2024-02-03-08-30.html?Itemid=101
END:VEVENT
END:VCALENDAR
