BEGIN:VCALENDAR
VERSION:2.0
PRODID:-//CPSV//NONSGML kigkonsult.se iCalcreator 2.30.10//
CALSCALE:GREGORIAN
METHOD:PUBLISH
UID:c40a09ae-ee73-41d8-a3fc-c127f59a3700
X-WR-CALNAME:iCagenda
X-WR-CALDESC:Event Management Extension for Joomla!
X-WR-RELCALID:3E26604A-50F4-4449-8B3E-E4F4932D05B5
X-WR-TIMEZONE:UTC
BEGIN:VTIMEZONE
TZID:UTC
END:VTIMEZONE
BEGIN:VEVENT
UID:11870606-41af-4575-841a-d194a85b322a
DTSTAMP:20260421T145058Z
CATEGORIES:Judo
CLASS:PUBLIC
DESCRIPTION;ALTREP="CID:<FFFF__=0ABBE548DFE235B58f9e8a93d@coffeebean.com>":
 23. Neujahrsturnier Freital 2024 der AK u11\, u15\, u18
DTSTART:20240204T083000Z
DTEND:20240204T083000Z
GEO:+50.978619;+13.622462
LOCATION:Richard-Wolf-Str. 1\, 01705 Freital Turnhalle Oberschule „Geschwis
 ter Scholl“
ORGANIZER:
SEQUENCE:1
SUMMARY:Judo - 23. Neujahrsturnier Freital 2024
TRANSP:OPAQUE
URL:https://www.cpsv.de/component/icagenda/72-judo-23-neujahrsturnier-freit
 al-2024/2024-02-04-08-30.html?Itemid=101
END:VEVENT
END:VCALENDAR
