BEGIN:VCALENDAR
VERSION:2.0
PRODID:-//CPSV//NONSGML kigkonsult.se iCalcreator 2.30.10//
CALSCALE:GREGORIAN
METHOD:PUBLISH
UID:3ced45f2-d584-4ad8-8df7-edb224d117bc
X-WR-CALNAME:iCagenda
X-WR-CALDESC:Event Management Extension for Joomla!
X-WR-RELCALID:3E26604A-50F4-4449-8B3E-E4F4932D05B5
X-WR-TIMEZONE:UTC
BEGIN:VTIMEZONE
TZID:UTC
END:VTIMEZONE
BEGIN:VEVENT
UID:df14db1b-112a-4684-8b2a-1fd84faa935a
DTSTAMP:20260421T185056Z
CATEGORIES:Judo
CLASS:PUBLIC
DESCRIPTION;ALTREP="CID:<FFFF__=0ABBE548DFE235B58f9e8a93d@coffeebean.com>":
 22. Traditionsturnier für Männermannschaften und 1.Mixmannschaftsturnier d
 es JC Crimmitschau
DTSTART:20240210T090000Z
DTEND:20240210T090000Z
GEO:+50.81638;+12.38393
LOCATION:Mannichswalder Straße 22 (Haus der Vereine) 08451 Crimmitschau
ORGANIZER:
SEQUENCE:1
SUMMARY:Judo - 22. Traditionsturnier für Männermannschaften und 1. Mixmanns
 chaftsturnier des JC Crimmitschau
TRANSP:OPAQUE
URL:https://www.cpsv.de/component/icagenda/73-judo-22-traditionsturnier-fue
 r-maennermannschaften-und-1-mixmannschaftsturnier-des-jc-crimmitschau/2024
 -02-10-09-00.html?Itemid=101
END:VEVENT
END:VCALENDAR
