BEGIN:VCALENDAR
VERSION:2.0
PRODID:-//CPSV//NONSGML kigkonsult.se iCalcreator 2.30.10//
CALSCALE:GREGORIAN
METHOD:PUBLISH
UID:624fee9f-eecb-47b6-87d9-aa4e887848cf
X-WR-CALNAME:iCagenda
X-WR-CALDESC:Event Management Extension for Joomla!
X-WR-RELCALID:3E26604A-50F4-4449-8B3E-E4F4932D05B5
X-WR-TIMEZONE:UTC
BEGIN:VTIMEZONE
TZID:UTC
END:VTIMEZONE
BEGIN:VEVENT
UID:b12431ac-4adf-4619-afd6-d10576918f68
DTSTAMP:20260421T133847Z
CATEGORIES:Judo
CLASS:PUBLIC
DESCRIPTION;ALTREP="CID:<FFFF__=0ABBE548DFE235B58f9e8a93d@coffeebean.com>":
 Judo - Offenes Vogtlandpokalturnier u9/u11
DTSTART:20240316T112300Z
DTEND:20240316T112300Z
GEO:+50.528549;+12.406408
LOCATION:Göltzschtalhalle Rodewisch\, Hüllebrandweg 1\, (ehemals Schillerst
 r. 4) 08228 Rodewisch
ORGANIZER:
SEQUENCE:1
SUMMARY:Judo - Offenes Vogtlandpokalturnier u9/u11
TRANSP:OPAQUE
URL:https://www.cpsv.de/component/icagenda/74-judo-offenes-vogtlandpokaltur
 nier-u9-u11/2024-03-16-11-23.html?Itemid=101
END:VEVENT
END:VCALENDAR
