BEGIN:VCALENDAR
VERSION:2.0
PRODID:-//CPSV//NONSGML kigkonsult.se iCalcreator 2.30.10//
CALSCALE:GREGORIAN
METHOD:PUBLISH
UID:c687afe1-d5a6-4b1c-a0ad-324755e56d97
X-WR-CALNAME:iCagenda
X-WR-CALDESC:Event Management Extension for Joomla!
X-WR-RELCALID:3E26604A-50F4-4449-8B3E-E4F4932D05B5
X-WR-TIMEZONE:UTC
BEGIN:VTIMEZONE
TZID:UTC
END:VTIMEZONE
BEGIN:VEVENT
UID:81072589-432b-4ddd-9ffe-678001a17075
DTSTAMP:20260421T132426Z
CATEGORIES:Judo
CLASS:PUBLIC
DESCRIPTION;ALTREP="CID:<FFFF__=0ABBE548DFE235B58f9e8a93d@coffeebean.com>":
 19. Internationale Sachsen Masters 2024\nOffene Einzelmeisterschaft für Fr
 auen und Männer Ü30 Open und Ne-Waza
DTSTART:20240316T090000Z
DTEND:20240316T090000Z
GEO:+50.76585;+12.364831
LOCATION:Mehrzweckhalle Langenhessen\, Seelingstädter Str. 7\, 08412 Werdau
  OT Langenhessen
ORGANIZER:
SEQUENCE:1
SUMMARY:Judo - 19. Internationale Sachsen Masters 2024
TRANSP:OPAQUE
URL:https://www.cpsv.de/component/icagenda/75-judo-19-internationale-sachse
 n-masters-2024/2024-03-16-09-00.html?Itemid=101
END:VEVENT
END:VCALENDAR
