BEGIN:VCALENDAR
VERSION:2.0
PRODID:-//CPSV//NONSGML kigkonsult.se iCalcreator 2.30.10//
CALSCALE:GREGORIAN
METHOD:PUBLISH
UID:5a97b2eb-765b-4256-82f6-d053faa4a5e0
X-WR-CALNAME:iCagenda
X-WR-CALDESC:Event Management Extension for Joomla!
X-WR-RELCALID:3E26604A-50F4-4449-8B3E-E4F4932D05B5
X-WR-TIMEZONE:UTC
BEGIN:VTIMEZONE
TZID:UTC
END:VTIMEZONE
BEGIN:VEVENT
UID:3b430480-546d-4876-8c24-b26494ac9c70
DTSTAMP:20260421T145406Z
CATEGORIES:Judo
CLASS:PUBLIC
DESCRIPTION;ALTREP="CID:<FFFF__=0ABBE548DFE235B58f9e8a93d@coffeebean.com>":
 Landeseinzelmeisterschaft 2024 U18 / U21\nfür quailifizierte Judoka u18\no
 ffene LEM für u21
DTSTART:20240203T143800Z
DTEND:20240203T143800Z
GEO:+50.318047;+12.25536
LOCATION:Sporthalle Adorf\, Lessingstraße 15\, 08626 Adorf/Vogtland
ORGANIZER:
SEQUENCE:1
SUMMARY:Judo - Landeseinzelmeisterschaft 2024 U18 / U21
TRANSP:OPAQUE
URL:https://www.cpsv.de/component/icagenda/76-judo-landeseinzelmeisterschaf
 t-2024-u18-u21/2024-02-03-14-38.html?Itemid=101
END:VEVENT
END:VCALENDAR
