BEGIN:VCALENDAR
VERSION:2.0
PRODID:-//CPSV//NONSGML kigkonsult.se iCalcreator 2.30.10//
CALSCALE:GREGORIAN
METHOD:PUBLISH
UID:fbd23a6d-ca27-484a-80c8-9def4872fac7
X-WR-CALNAME:iCagenda
X-WR-CALDESC:Event Management Extension for Joomla!
X-WR-RELCALID:3E26604A-50F4-4449-8B3E-E4F4932D05B5
X-WR-TIMEZONE:UTC
BEGIN:VTIMEZONE
TZID:UTC
END:VTIMEZONE
BEGIN:VEVENT
UID:f348b093-1193-4a77-9f89-145249fa9853
DTSTAMP:20260421T145112Z
CATEGORIES:Judo
CLASS:PUBLIC
DESCRIPTION;ALTREP="CID:<FFFF__=0ABBE548DFE235B58f9e8a93d@coffeebean.com>":
 Mitteldeutsche Einzelmeisterschaften u18 2024\nTeilnahme entsprechend Qual
 ifikation
DTSTART:20240217T090000Z
DTEND:20240217T090000Z
GEO:+50.716919;+11.323945
LOCATION:Rudolstadt\, Dreifelderhalle Schillerschule\, Bayreuther Platz 4\,
  07407 Rudolstadt
ORGANIZER:
SEQUENCE:1
SUMMARY:Judo - Mitteldeutsche Einzelmeisterschaften u18 2024
TRANSP:OPAQUE
URL:https://www.cpsv.de/component/icagenda/81-judo-mitteldeutsche-einzelmei
 sterschaften-u18-2024/2024-02-17-09-00.html?Itemid=101
END:VEVENT
END:VCALENDAR
