BEGIN:VCALENDAR
VERSION:2.0
PRODID:-//CPSV//NONSGML kigkonsult.se iCalcreator 2.30.10//
CALSCALE:GREGORIAN
METHOD:PUBLISH
UID:ba08d55b-113c-454f-bc3b-5507e2e1fa24
X-WR-CALNAME:iCagenda
X-WR-CALDESC:Event Management Extension for Joomla!
X-WR-RELCALID:3E26604A-50F4-4449-8B3E-E4F4932D05B5
X-WR-TIMEZONE:UTC
BEGIN:VTIMEZONE
TZID:UTC
END:VTIMEZONE
BEGIN:VEVENT
UID:03e1b85e-29c0-4db9-a544-4f3201d49831
DTSTAMP:20260421T145534Z
CATEGORIES:Judo
CLASS:PUBLIC
DESCRIPTION;ALTREP="CID:<FFFF__=0ABBE548DFE235B58f9e8a93d@coffeebean.com>":
 Generationenturnier u10\, u13\, u16\, Männer\, Frauen\, ü30\, ü45
DTSTART:20240406T080000Z
DTEND:20240406T080000Z
GEO:+51.505268;+11.938594
LOCATION:Sporthalle Brandberge\, Kreuzvorwerk 30\, 06120 Halle
ORGANIZER:
SEQUENCE:1
SUMMARY:14. Generationenturnier des Judo-Clubs Halle
TRANSP:OPAQUE
URL:https://www.cpsv.de/component/icagenda/82-14-generationenturnier-des-ju
 do-clubs-halle/2024-04-06-08-00.html?Itemid=101
END:VEVENT
END:VCALENDAR
