BEGIN:VCALENDAR
VERSION:2.0
PRODID:-//CPSV//NONSGML kigkonsult.se iCalcreator 2.30.10//
CALSCALE:GREGORIAN
METHOD:PUBLISH
UID:64f9026f-c426-4973-a03f-3317af0979d1
X-WR-CALNAME:iCagenda
X-WR-CALDESC:Event Management Extension for Joomla!
X-WR-RELCALID:3E26604A-50F4-4449-8B3E-E4F4932D05B5
X-WR-TIMEZONE:UTC
BEGIN:VTIMEZONE
TZID:UTC
END:VTIMEZONE
BEGIN:VEVENT
UID:ac26da48-56fd-4d2d-a024-0e0cb15b1008
DTSTAMP:20260421T145540Z
CATEGORIES:Judo
CLASS:PUBLIC
DESCRIPTION;ALTREP="CID:<FFFF__=0ABBE548DFE235B58f9e8a93d@coffeebean.com>":
 BEM 2024 u13 SB Chemnitz
DTSTART:20240413T114500Z
DTEND:20240413T114500Z
GEO:+50.804691;+12.93403
LOCATION:Zentraldojo CPSC BUDO e.V. Sportforum Chemnitz\, Einfahrt Südring\
 , Reichenhainer Straße 254\, 09125 Chemnitz
ORGANIZER:
SEQUENCE:1
SUMMARY:Judo -Bezirkseinzelmeisterschaft u13 Sportbezirk Chemnitz 2024
TRANSP:OPAQUE
URL:https://www.cpsv.de/component/icagenda/83-judo-bezirkseinzelmeisterscha
 ft-u13-sportbezirk-chemnitz-2024/2024-04-13-11-45.html?Itemid=101
END:VEVENT
END:VCALENDAR
