BEGIN:VCALENDAR
VERSION:2.0
PRODID:-//CPSV//NONSGML kigkonsult.se iCalcreator 2.30.10//
CALSCALE:GREGORIAN
METHOD:PUBLISH
UID:5a11e9dc-12d1-4d05-90d1-bf099b5f6bed
X-WR-CALNAME:iCagenda
X-WR-CALDESC:Event Management Extension for Joomla!
X-WR-RELCALID:3E26604A-50F4-4449-8B3E-E4F4932D05B5
X-WR-TIMEZONE:UTC
BEGIN:VTIMEZONE
TZID:UTC
END:VTIMEZONE
BEGIN:VEVENT
UID:5a7267a6-99c4-45eb-bbf6-ddf9c4d64e45
DTSTAMP:20260421T145411Z
CATEGORIES:Judo
CLASS:PUBLIC
DESCRIPTION;ALTREP="CID:<FFFF__=0ABBE548DFE235B58f9e8a93d@coffeebean.com>":
 18. Pokal der Stadt Werdau\, u13\, u15\, u18\, Männer
DTSTART:20240420T115500Z
DTEND:20240420T115500Z
GEO:+50.76585;+12.364831
LOCATION:Mehrzweckhalle Langenhessen Seelingstädter Str. 7 08412 Werdau OT 
 Langenhessen
ORGANIZER:
SEQUENCE:1
SUMMARY:Judo - 18. Pokal der Stadt Werdau 2024
TRANSP:OPAQUE
URL:https://www.cpsv.de/component/icagenda/84-judo-18-pokal-der-stadt-werda
 u-2024/2024-04-20-11-55.html?Itemid=101
END:VEVENT
END:VCALENDAR
