BEGIN:VCALENDAR
VERSION:2.0
PRODID:-//CPSV//NONSGML kigkonsult.se iCalcreator 2.30.10//
CALSCALE:GREGORIAN
METHOD:PUBLISH
UID:0c4cdb5e-a019-450f-8404-504a2be4e12f
X-WR-CALNAME:iCagenda
X-WR-CALDESC:Event Management Extension for Joomla!
X-WR-RELCALID:3E26604A-50F4-4449-8B3E-E4F4932D05B5
X-WR-TIMEZONE:UTC
BEGIN:VTIMEZONE
TZID:UTC
END:VTIMEZONE
BEGIN:VEVENT
UID:e23d5c26-2df8-4291-9e01-bd8f1c6b1496
DTSTAMP:20260421T145215Z
CATEGORIES:Judo
CLASS:PUBLIC
DESCRIPTION;ALTREP="CID:<FFFF__=0ABBE548DFE235B58f9e8a93d@coffeebean.com>":
 1. Kampftag Kinderliga u11
DTSTART:20240420T083000Z
DTEND:20240420T083000Z
GEO:+50.785923;+12.879179
LOCATION:Sporthalle des CPSV\, Ernst-Wabra-Straße 36\, 09123 Chemnitz
ORGANIZER:
SEQUENCE:1
SUMMARY:Judo - 1. Kampftag Kinderliga u11 2024
TRANSP:OPAQUE
URL:https://www.cpsv.de/component/icagenda/85-judo-1-kampftag-kinderliga-u1
 1-2024/2024-04-20-08-30.html?Itemid=101
END:VEVENT
END:VCALENDAR
