BEGIN:VCALENDAR
VERSION:2.0
PRODID:-//CPSV//NONSGML kigkonsult.se iCalcreator 2.30.10//
CALSCALE:GREGORIAN
METHOD:PUBLISH
UID:bbdc69a1-31f3-4821-9754-eeebd66652e3
X-WR-CALNAME:iCagenda
X-WR-CALDESC:Event Management Extension for Joomla!
X-WR-RELCALID:3E26604A-50F4-4449-8B3E-E4F4932D05B5
X-WR-TIMEZONE:UTC
BEGIN:VTIMEZONE
TZID:UTC
END:VTIMEZONE
BEGIN:VEVENT
UID:44983873-ffef-4472-9777-45807bd8cf2e
DTSTAMP:20260421T161019Z
CATEGORIES:Judo
CLASS:PUBLIC
DESCRIPTION;ALTREP="CID:<FFFF__=0ABBE548DFE235B58f9e8a93d@coffeebean.com>":
 Judo - 25. Internationaler Thüringer Messe-Cup 2024 DJB Sichtungsturnier u
 16 m/w\, Teilnahme: Kadersportler
DTSTART:20240504T074500Z
DTEND:20240504T074500Z
GEO:+50.962109;+11.037444
LOCATION:Hartwig-Gauder-Halle Erfurt (Steigerwaldstadion) Johann-Sebastian-
 Bach-Str. 2\, 99096 Erfurt
ORGANIZER:
SEQUENCE:1
SUMMARY:Judo - 25. Internationaler Thüringer Messe-Cup 2024 DJB Sichtungstu
 rnier
TRANSP:OPAQUE
URL:https://www.cpsv.de/component/icagenda/86-judo-25-internationaler-thuer
 inger-messe-cup-2024-djb-sichtungsturnier/2024-05-04-07-45.html?Itemid=101
END:VEVENT
END:VCALENDAR
