BEGIN:VCALENDAR
VERSION:2.0
PRODID:-//CPSV//NONSGML kigkonsult.se iCalcreator 2.30.10//
CALSCALE:GREGORIAN
METHOD:PUBLISH
UID:ea6b123c-fdd9-46ed-8c0e-e1f05a31e106
X-WR-CALNAME:iCagenda
X-WR-CALDESC:Event Management Extension for Joomla!
X-WR-RELCALID:3E26604A-50F4-4449-8B3E-E4F4932D05B5
X-WR-TIMEZONE:UTC
BEGIN:VTIMEZONE
TZID:UTC
END:VTIMEZONE
BEGIN:VEVENT
UID:aeb64695-2c85-4d7b-877b-989bfaaa994c
DTSTAMP:20260421T161122Z
CATEGORIES:Judo
CLASS:PUBLIC
DESCRIPTION;ALTREP="CID:<FFFF__=0ABBE548DFE235B58f9e8a93d@coffeebean.com>":
 30. Internationaler ega-Pokal 2024\, DJB Sichtungsturnier u13 m/w
DTSTART:20240505T074500Z
DTEND:20240505T074500Z
GEO:+50.962109;+11.037444
LOCATION:Hartwig-Gauder-Halle Erfurt (Steigerwaldstadion) Johann-Sebastian-
 Bach-Str. 2\, 99096 Erfurt
ORGANIZER:
SEQUENCE:1
SUMMARY:Judo - 30. Internationaler ega-Pokal 2024\, DJB Sichtungsturnier
TRANSP:OPAQUE
URL:https://www.cpsv.de/component/icagenda/87-judo-30-internationaler-ega-p
 okal-2024-djb-sichtungsturnier/2024-05-05-07-45.html?Itemid=101
END:VEVENT
END:VCALENDAR
