BEGIN:VCALENDAR
VERSION:2.0
PRODID:-//CPSV//NONSGML kigkonsult.se iCalcreator 2.30.10//
CALSCALE:GREGORIAN
METHOD:PUBLISH
UID:abbaeb58-f40b-47c1-bd7c-6a4ff651d006
X-WR-CALNAME:iCagenda
X-WR-CALDESC:Event Management Extension for Joomla!
X-WR-RELCALID:3E26604A-50F4-4449-8B3E-E4F4932D05B5
X-WR-TIMEZONE:UTC
BEGIN:VTIMEZONE
TZID:UTC
END:VTIMEZONE
BEGIN:VEVENT
UID:78adc9ea-77a7-4c16-bcbb-21f65313cdbf
DTSTAMP:20260421T160906Z
CATEGORIES:Judo
CLASS:PUBLIC
DESCRIPTION;ALTREP="CID:<FFFF__=0ABBE548DFE235B58f9e8a93d@coffeebean.com>":
 18. Werdauer Mädchen-Pokal 2024\, u11\, u13\, u15\, u18\, Frauen
DTSTART:20240525T083000Z
DTEND:20240525T083000Z
GEO:+50.76585;+12.364831
LOCATION:Mehrzweckhalle Langenhessen Seelingstädter Str. 7 08412 Werdau OT 
 Langenhessen
ORGANIZER:
SEQUENCE:1
SUMMARY:Judo - 18. Werdauer Mädchen-Pokal 2024
TRANSP:OPAQUE
URL:https://www.cpsv.de/component/icagenda/88-judo-18-werdauer-maedchen-pok
 al-2024/2024-05-25-08-30.html?Itemid=101
END:VEVENT
END:VCALENDAR
